Workbook
Name Asiakastoiminnot_6: 'Toimenpiteiden luokittelu'!$C$44:$C$46
Name Energia_ala: 'Toimenpiteiden luokittelu'!$C$8:$C$21
Name Energia_ala_muu: 'Toimenpiteiden luokittelu'!$C$16:$C$21
Name Energiantuotanto: 'Toimenpiteiden luokittelu'!$C$9:$C$14
Name Järjestelmätason_tehokkuus_1: 'Toimenpiteiden luokittelu'!$C$25:$C$28
Name KTEK_TEK: Table2[KTEK_TEK]
Name KTEK_TEK: Table2[KTEK_TEK]
Name Kulutuspään_ratkaisu_2: 'Toimenpiteiden luokittelu'!$C$30:$C$31
Name Kylla_ei: Table4[Kylla_Ei]
Name Kylla_ei: Table4[Kylla_Ei]
Name Muu_5: 'Toimenpiteiden luokittelu'!$C$41:$C$42
Name Muu_oma_toiminta_10: 'Toimenpiteiden luokittelu'!$C$66:$C$67
Name Toteutusvaihe: Table3[Toteutusvaihe]
Name Toteutusvaihe: Table3[Toteutusvaihe]
Name Tuotantolaitoksen_tehokkuus_1: 'Toimenpiteiden luokittelu'!$C$37:$C$39
Name Uusi_energialähde_3: 'Toimenpiteiden luokittelu'!$C$33:$C$35
Name Verkon_käyttö_7: 'Toimenpiteiden luokittelu'!$C$48:$C$51
Name Verkon_rakentaminen_ja_kunnossapito_8: 'Toimenpiteiden luokittelu'!$C$53:$C$58
Name Verkon_suunnittelu_9: 'Toimenpiteiden luokittelu'!$C$60:$C$64

Sheet Ohje
A1: Siirtotiedoston koodi | B1: TOIMENPITEET-V1-2026-09-17/MOTIVA
A3: Toimenpiteiden siirtotiedosto
B5: Toimiala
B6: Energiantuotanto
B8: Käyttöohje | I8: Yhteystiedot
B9: Tällä Excel-tiedostolla voi siirtää energiansäästötoimenpiteiden tiedot energiatehokkuussopimusten raportointijärjestelmään. Täytä tiedot Toimenpiteet-välilehdelle tämän ohjeen mukaisesti. Kun kaikki pakolliset tiedot on täytetty, tallenna tiedosto ja siirrä se järjestelmään. | I9: Jos sinulla on kysyttävää siirtotiedostosta tai tietojen siirrossa ilmenee ongelmia, ole yhteydessä energiatehokkuussopimusten raportoinnin ylläpitoon (Seuranta-apu).
I10: seuranta-apu@motiva.fi
B12: 1. Aloita tästä
B13: Ennen tietojen syöttämistä varmista seuraavat asiat:
B14: ☐ Käytössäsi on uusin siirtotiedoston versio.
B15: ☐ Olet valinnut oikean toimialan siirtotiedoston.
B16: ☐ Muista, että tiedot syötetään vain Toimenpiteet-välilehdelle.
B17: ☐ Toimenpiteiden siirto tapahtuu raportointijärjestelmän "Toimenpiteet ja energiakatselmukset" -osion "Tuo Excel-tiedostosta"-toiminnolla.
B19: 2. Tärkeimmät rajoitukset
B20: ⚠ Katselmuksissa todettuja toimenpiteitä ei voi siirtää tällä siirtotiedostolla. TEM:n tukemien katselmusten tai suurten yritysten pakolliseen katselmukseen liittyvän kohdekatselmuksen toimenpiteitä ei voi siirtää siirtotiedostolla, koska nämä toimenpiteet tulevat energiatehokkuussopimusten raportointijärjestelmään automaattisesti ylläpidon toimesta. Mikäli katselmustoimenpiteitä puuttuu vuosiraportilta, ole yhteydessä seuranta-apu@motiva.fi -osoitteeseen.
B21: ⚠ Toimenpiteen voi siirtää vain yhden kerran siirtotiedostolla. Siirretyn toimenpiteen päivitys tapahtuu aina raportointijärjestelmässä viimeisimmällä avoinna olevalla vuosiraportilla.
B22: ⚠ Et voi muuttaa taulukon rakennetta, lisätä tai poistaa sarakkeita tai muuttaa otsikkorivejä.
B23: ⚠ Siirtotiedostolla voi siirtää samalla kertaa toimenpiteitä useammalle eri toimipaikalle, joihin siirron tekijällä on käyttöoikeudet. Huom. Toimenpiteitä voi siirtää kerralla vain samaan toimialaan ja samaan sopimukseen kuuluville toimipaikoille.
B24: ⚠ Toimenpiteiden siirtotiedostolla voi siirtää 100 toimenpiteen tiedot (rivit 10–111). Jos siirrettäviä toimenpiteitä on tätä enemmän, jaa ne useammalle siirtotiedostolle.
B26: 3. Sarakekohtaiset ohjeet
B27: Sarake nro. | C27: Sarake | E27: Ohje | N27: Tiedon tyyppi
B28: 1 | C28: Toimipaikan nimi | E28: Toimipaikan nimi on vain tiedoston täyttäjän avuksi eikä siirry järjestelmään. Siirto tapahtuu teknisen tunnisteen perusteella. | N28: Tekstikenttä
B29: 2 | C29: Toimipaikan tekninen tunniste * | E29: Toimenpiteet siirretään oikeille toimipaikoille teknisen tunnisteen perusteella. Toimipaikan tekninen tunniste löytyy raportointijärjestelmästä vuosiraportin ensimmäiseltä sivulta kohdasta "Toimipaikan tiedot". Pakollinen tieto, jota ilman siirto ei onnistu. | N29: Numerosarja
B30: 3 | C30: Kohde | E30: Täytä vain, jos raportoit Toimipaikkaryhmä- tai Ketju-tyyppiselle toimipaikalle ja toimenpide kohdistuu yhteen tiettyyn ryhmän tai ketjun kohteeseen. Lisää kohde raportointijärjestelmään ennen toimenpiteiden siirtoa. Jos kohdetta ei ole lisätty tai sitä ei löydy raportointijärjestelmästä ennen siirtoa, toimenpide siirtyy vuosiraportille, mutta Kohde-tieto jää tyhjäksi. Jätä kenttä tyhjäksi, jos toimenpide koskee useampaa tai kaikkia kohteita. Muilla toimipaikoilla kenttää ei tarvitse täyttää. | N30: Tekstikenttä
B31: 4 | C31: Raportointivuosi * | E31: Lisää viimeisimmän avoinna olevan vuosiraportin vuosi. Toimenpiteet viedään aina viimeisimmälle avoinna olevalle vuodelle. Pakollinen tieto, jota ilman siirto ei onnistu. | N31: Numero (esim. 2026)
B32: 5 | C32: Toimenpiteen nimi * | E32: Anna toimenpiteelle lyhyt ja kuvaava nimi, josta käy ilmi, mitä on tehty ja missä laajuudessa. Kentän enimmäispituus on 255 merkkiä. Esimerkiksi: ”Ilmanvaihtokoneiden puhaltimien uusiminen kolmessa rakennuksessa” Pakollinen tieto, jota ilman siirto ei onnistu. | N32: Tekstikenttä
B33: 6 | C33: KTEK/TEK | E33: Valitse, onko toimenpide käyttötekninen (KTEK) vai tekninen (TEK) toimenpide. Käyttötekninen toimenpide on esimerkiksi säätötoimi, joka voidaan yleensä toteuttaa ilman investointeja tai teknisiä muutoksia. Tekninen toimenpide vaatii yleensä investoinnin ja teknisen muutoksen tarkasteltavaan prosessiin tai kohteeseen. | N33: Pudotusvalikko (vaihtoehdot KTEK tai TEK)
B34: 7 | C34: Investointi € | E34: Investointi, joka kohdistuu energiansäästön aikaansaamiseen. Mikäli tarkka investointi ei ole tiedossa, syötä arvio. Ilmoita investoinniksi nolla (0) vain silloin, kun toimenpide ei ole vaatinut investointia. | N34: Numero (esim. 10 000)
B35: 8 | C35: TMA | E35: TMA = takaisinmaksuaika. Toimenpiteen edellyttämän energiatehokkuusinvestoinnin suora takaisinmaksuaika vuosina, tarvittaessa yhdellä desimaalilla. | N35: Numero (esim. 1,5)
B36: 9 | C36: Sähköntuotannon tehostaminen MWh/a | E36: Ilmoita toimenpiteellä yhtenä vuonna saavutettava sähköntuotannon tehostuminen yksikössä MWh/a. Tähän soluun raportoidaan säästöjä vain energiantuotannon toimipaikalle toteutettavalle toimenpiteelle. | N36: Numero (esim. 200)
B37: 10 | C37: Primäärienergian käytön tehostaminen MWh/a | E37: Ilmoita toimenpiteellä yhtenä vuonna saavutettava primäärienergian käytön tehostuminen yksikössä MWh/a. Tähän soluun raportoidaan säästöjä vain energiantuotannon toimipaikalle toteutettavalle toimenpiteelle. | N37: Numero (esim. 200)
B38: 11 | C38: Toteutusvaihe | E38: Valitse toimenpiteen toteutuksen vaihe annetuista vaihtoehdoista: T = toteutettu P = päätetty toteuttaa H = toteutusta harkitaan E = ei toteuteta Toimenpiteiden siirtotiedosto on tarkoitettu ensisijaisesti toteutettujen toimenpiteiden siirtoon. Kun toimenpide on kertaalleen siirretty raportointijärjestelmään, tulee mahdolliset muutokset (toteutusvaihe, tarkentunut investointi yms.) tehdä aina suoraan raportointijärjestelmään. | N38: Pudotusvalikko (vaihtoehdot T, P, H, E)
B39: 12 | C39: Toteutusvuosi | E39: Valitse toimenpiteen toteutusvuosi avautuvasta listasta. Toteutusvuosi määräytyy sen mukaan, milloin toimenpiteestä tai erikseen raportoitavasta toimenpiteen vaiheesta alkaa syntyä energiansäästöä. Toteutusvuoden tulee olla sopimuskaudella 2026–2035. | N39: Numero (esim. 2026)
... B45: 18 | C45: Ilmaisjako | E45: Valitse Kyllä, jos toimenpide on ilmoitettu päästökaupan ilmaisjaossa energiatehokkuustoimenpiteenä, jolla osoitetaan ilmaisjaon ehtojen täyttymistä. | N45: Pudotusvalikko (vaihtoehdot Kyllä tai Ei)

Sheet Toimenpiteet
A1: Toimenpiteiden siirtotiedosto, Energiatehokkuussopimukset 2026-2035
A2: =Ohje!B1 -> TOIMENPITEET-V1-2026-09-17/MOTIVA | F2: KTEK
D4: Toimiala: | E4: =Ohje!B6 -> Energiantuotanto
A5: ToimipaikanNimi | B5: ToimipaikkaId | C5: KetjunToimipaikka | D5: Raportointivuosi | E5: Nimi | F5: KayttotekninenTekninen | G5: Investointi | H5: Takaisinmaksuaika | I5: SahkontuotannonTehostaminen | J5: PrimaarienergianTehostaminen | K5: Toteutusvaihe | L5: Toteutusvuosi | M5: Ei siirretä_1 | N5: EscoTaiMuuRahoitus | O5: InvestointiTuki | P5: Ei siirretä_2 | R5: Lisatieto | S5: Ilmaisjako | T5: SaastonElinika | U5: Ei siirretä_3 | V5: Luokitus | W5: TarkempiLuokitus
A6: Numerot rivillä 8 viittaavat "Ohje"-välilehdellä löytyviin ohjeisiin. | F6: TEK
A7: 1) | B7: 2) Pakollinen tieto * | C7: 3) | D7: 4) * Pakollinen tieto | E7: 5) * Pakollinen tieto | F7: 6) | G7: 7) | H7: 8) | I7: 9) | J7: 10) | K7: 11) | L7: 12) | M7: 13) | N7: 14) | O7: 15) | P7: 16) | Q7: 22) | R7: 17) | S7: 18) | T7: 19) | U7: 20) | V7: 21) | W7: 22)
I8: Säästöt (=vuosittainen säästö)
A9: Toimipaikan nimi | B9: Toimipaikan tekninen tunniste * | C9: Kohde | D9: Raportointivuosi * | E9: Toimenpiteen nimi * | F9: KTEK/TEK | G9: Investointi € | H9: TMA | I9: Sähköntuotannon tehostaminen MWh/a | J9: Primäärienergian käytön tehostaminen MWh/a | K9: Toteutusvaihe | L9: Toteutusvuosi | M9: Säästön elinikä | N9: ESCO tai muu rahoitus | O9: Investointi-tuki | P9: Toimenpiteen luokka | Q9: Tarkempi luokitus | R9: Lisätieto | S9: Ilmaisjako | T9: Elinikä siirtoon | U9: APUsarake_Tarkempiluokka | V9: Toimenpidekoodi | W9: Tarkempiluokka_koodi
M10: =IF(Table6[[#This Row],[KTEK/TEK]]="KTEK",5,IF(Table6[[#This Row],[KTEK/TEK]]="TEK",15,"")) | T10: =IF(F10="",IF(M10="","",M10),IF(F10="KTEK",5,IF(F10="TEK",IF(M10="",15,M10),""))) | U10: =IF(ISBLANK(Table6[[#This Row],[Toimenpiteen luokka ]]),"",_xlfn.CONCAT(SUBSTITUTE(Table6[[#This Row],[Toimenpiteen luokka ]]," ","_"),"_",V10)) | V10: =IF(ISBLANK(Table6[[#This Row],[Toimenpiteen luokka ]]),"",VLOOKUP(Table6[[#This Row],[Toimenpiteen luokka ]],'Toimenpiteiden luokittelu'!$C$8:$E$21,3,FALSE)) | W10: =IF(ISBLANK(Table6[[#This Row],[Tarkempi luokitus]]),"",VLOOKUP(Table6[[#This Row],[Tarkempi luokitus]],'Toimenpiteiden luokittelu'!$C$24:$D$67,2,FALSE))
M11: =IF(Table6[[#This Row],[KTEK/TEK]]="KTEK",5,IF(Table6[[#This Row],[KTEK/TEK]]="TEK",15,"")) | T11: =IF(F11="",IF(M11="","",M11),IF(F11="KTEK",5,IF(F11="TEK",IF(M11="",15,M11),""))) | U11: =IF(ISBLANK(Table6[[#This Row],[Toimenpiteen luokka ]]),"",_xlfn.CONCAT(SUBSTITUTE(Table6[[#This Row],[Toimenpiteen luokka ]]," ","_"),"_",V11)) | V11: =IF(ISBLANK(Table6[[#This Row],[Toimenpiteen luokka ]]),"",VLOOKUP(Table6[[#This Row],[Toimenpiteen luokka ]],'Toimenpiteiden luokittelu'!$C$8:$E$21,3,FALSE)) | W11: =IF(ISBLANK(Table6[[#This Row],[Tarkempi luokitus]]),"",VLOOKUP(Table6[[#This Row],[Tarkempi luokitus]],'Toimenpiteiden luokittelu'!$C$24:$D$67,2,FALSE))
M12: =IF(Table6[[#This Row],[KTEK/TEK]]="KTEK",5,IF(Table6[[#This Row],[KTEK/TEK]]="TEK",15,"")) | T12: =IF(F12="",IF(M12="","",M12),IF(F12="KTEK",5,IF(F12="TEK",IF(M12="",15,M12),""))) | U12: =IF(ISBLANK(Table6[[#This Row],[Toimenpiteen luokka ]]),"",_xlfn.CONCAT(SUBSTITUTE(Table6[[#This Row],[Toimenpiteen luokka ]]," ","_"),"_",V12)) | V12: =IF(ISBLANK(Table6[[#This Row],[Toimenpiteen luokka ]]),"",VLOOKUP(Table6[[#This Row],[Toimenpiteen luokka ]],'Toimenpiteiden luokittelu'!$C$8:$E$21,3,FALSE)) | W12: =IF(ISBLANK(Table6[[#This Row],[Tarkempi luokitus]]),"",VLOOKUP(Table6[[#This Row],[Tarkempi luokitus]],'Toimenpiteiden luokittelu'!$C$24:$D$67,2,FALSE))
M13: =IF(Table6[[#This Row],[KTEK/TEK]]="KTEK",5,IF(Table6[[#This Row],[KTEK/TEK]]="TEK",15,"")) | T13: =IF(F13="",IF(M13="","",M13),IF(F13="KTEK",5,IF(F13="TEK",IF(M13="",15,M13),""))) | U13: =IF(ISBLANK(Table6[[#This Row],[Toimenpiteen luokka ]]),"",_xlfn.CONCAT(SUBSTITUTE(Table6[[#This Row],[Toimenpiteen luokka ]]," ","_"),"_",V13)) | V13: =IF(ISBLANK(Table6[[#This Row],[Toimenpiteen luokka ]]),"",VLOOKUP(Table6[[#This Row],[Toimenpiteen luokka ]],'Toimenpiteiden luokittelu'!$C$8:$E$21,3,FALSE)) | W13: =IF(ISBLANK(Table6[[#This Row],[Tarkempi luokitus]]),"",VLOOKUP(Table6[[#This Row],[Tarkempi luokitus]],'Toimenpiteiden luokittelu'!$C$24:$D$67,2,FALSE))
M14: =IF(Table6[[#This Row],[KTEK/TEK]]="KTEK",5,IF(Table6[[#This Row],[KTEK/TEK]]="TEK",15,"")) | T14: =IF(F14="",IF(M14="","",M14),IF(F14="KTEK",5,IF(F14="TEK",IF(M14="",15,M14),""))) | U14: =IF(ISBLANK(Table6[[#This Row],[Toimenpiteen luokka ]]),"",_xlfn.CONCAT(SUBSTITUTE(Table6[[#This Row],[Toimenpiteen luokka ]]," ","_"),"_",V14)) | V14: =IF(ISBLANK(Table6[[#This Row],[Toimenpiteen luokka ]]),"",VLOOKUP(Table6[[#This Row],[Toimenpiteen luokka ]],'Toimenpiteiden luokittelu'!$C$8:$E$21,3,FALSE)) | W14: =IF(ISBLANK(Table6[[#This Row],[Tarkempi luokitus]]),"",VLOOKUP(Table6[[#This Row],[Tarkempi luokitus]],'Toimenpiteiden luokittelu'!$C$24:$D$67,2,FALSE))
M15: =IF(Table6[[#This Row],[KTEK/TEK]]="KTEK",5,IF(Table6[[#This Row],[KTEK/TEK]]="TEK",15,"")) | T15: =IF(F15="",IF(M15="","",M15),IF(F15="KTEK",5,IF(F15="TEK",IF(M15="",15,M15),""))) | U15: =IF(ISBLANK(Table6[[#This Row],[Toimenpiteen luokka ]]),"",_xlfn.CONCAT(SUBSTITUTE(Table6[[#This Row],[Toimenpiteen luokka ]]," ","_"),"_",V15)) | V15: =IF(ISBLANK(Table6[[#This Row],[Toimenpiteen luokka ]]),"",VLOOKUP(Table6[[#This Row],[Toimenpiteen luokka ]],'Toimenpiteiden luokittelu'!$C$8:$E$21,3,FALSE)) | W15: =IF(ISBLANK(Table6[[#This Row],[Tarkempi luokitus]]),"",VLOOKUP(Table6[[#This Row],[Tarkempi luokitus]],'Toimenpiteiden luokittelu'!$C$24:$D$67,2,FALSE))
M16: =IF(Table6[[#This Row],[KTEK/TEK]]="KTEK",5,IF(Table6[[#This Row],[KTEK/TEK]]="TEK",15,"")) | T16: =IF(F16="",IF(M16="","",M16),IF(F16="KTEK",5,IF(F16="TEK",IF(M16="",15,M16),""))) | U16: =IF(ISBLANK(Table6[[#This Row],[Toimenpiteen luokka ]]),"",_xlfn.CONCAT(SUBSTITUTE(Table6[[#This Row],[Toimenpiteen luokka ]]," ","_"),"_",V16)) | V16: =IF(ISBLANK(Table6[[#This Row],[Toimenpiteen luokka ]]),"",VLOOKUP(Table6[[#This Row],[Toimenpiteen luokka ]],'Toimenpiteiden luokittelu'!$C$8:$E$21,3,FALSE)) | W16: =IF(ISBLANK(Table6[[#This Row],[Tarkempi luokitus]]),"",VLOOKUP(Table6[[#This Row],[Tarkempi luokitus]],'Toimenpiteiden luokittelu'!$C$24:$D$67,2,FALSE))
M17: =IF(Table6[[#This Row],[KTEK/TEK]]="KTEK",5,IF(Table6[[#This Row],[KTEK/TEK]]="TEK",15,"")) | T17: =IF(F17="",IF(M17="","",M17),IF(F17="KTEK",5,IF(F17="TEK",IF(M17="",15,M17),""))) | U17: =IF(ISBLANK(Table6[[#This Row],[Toimenpiteen luokka ]]),"",_xlfn.CONCAT(SUBSTITUTE(Table6[[#This Row],[Toimenpiteen luokka ]]," ","_"),"_",V17)) | V17: =IF(ISBLANK(Table6[[#This Row],[Toimenpiteen luokka ]]),"",VLOOKUP(Table6[[#This Row],[Toimenpiteen luokka ]],'Toimenpiteiden luokittelu'!$C$8:$E$21,3,FALSE)) | W17: =IF(ISBLANK(Table6[[#This Row],[Tarkempi luokitus]]),"",VLOOKUP(Table6[[#This Row],[Tarkempi luokitus]],'Toimenpiteiden luokittelu'!$C$24:$D$67,2,FALSE))
M18: =IF(Table6[[#This Row],[KTEK/TEK]]="KTEK",5,IF(Table6[[#This Row],[KTEK/TEK]]="TEK",15,"")) | T18: =IF(F18="",IF(M18="","",M18),IF(F18="KTEK",5,IF(F18="TEK",IF(M18="",15,M18),""))) | U18: =IF(ISBLANK(Table6[[#This Row],[Toimenpiteen luokka ]]),"",_xlfn.CONCAT(SUBSTITUTE(Table6[[#This Row],[Toimenpiteen luokka ]]," ","_"),"_",V18)) | V18: =IF(ISBLANK(Table6[[#This Row],[Toimenpiteen luokka ]]),"",VLOOKUP(Table6[[#This Row],[Toimenpiteen luokka ]],'Toimenpiteiden luokittelu'!$C$8:$E$21,3,FALSE)) | W18: =IF(ISBLANK(Table6[[#This Row],[Tarkempi luokitus]]),"",VLOOKUP(Table6[[#This Row],[Tarkempi luokitus]],'Toimenpiteiden luokittelu'!$C$24:$D$67,2,FALSE))
M19: =IF(Table6[[#This Row],[KTEK/TEK]]="KTEK",5,IF(Table6[[#This Row],[KTEK/TEK]]="TEK",15,"")) | T19: =IF(F19="",IF(M19="","",M19),IF(F19="KTEK",5,IF(F19="TEK",IF(M19="",15,M19),""))) | U19: =IF(ISBLANK(Table6[[#This Row],[Toimenpiteen luokka ]]),"",_xlfn.CONCAT(SUBSTITUTE(Table6[[#This Row],[Toimenpiteen luokka ]]," ","_"),"_",V19)) | V19: =IF(ISBLANK(Table6[[#This Row],[Toimenpiteen luokka ]]),"",VLOOKUP(Table6[[#This Row],[Toimenpiteen luokka ]],'Toimenpiteiden luokittelu'!$C$8:$E$21,3,FALSE)) | W19: =IF(ISBLANK(Table6[[#This Row],[Tarkempi luokitus]]),"",VLOOKUP(Table6[[#This Row],[Tarkempi luokitus]],'Toimenpiteiden luokittelu'!$C$24:$D$67,2,FALSE))
M20: =IF(Table6[[#This Row],[KTEK/TEK]]="KTEK",5,IF(Table6[[#This Row],[KTEK/TEK]]="TEK",15,"")) | T20: =IF(F20="",IF(M20="","",M20),IF(F20="KTEK",5,IF(F20="TEK",IF(M20="",15,M20),""))) | U20: =IF(ISBLANK(Table6[[#This Row],[Toimenpiteen luokka ]]),"",_xlfn.CONCAT(SUBSTITUTE(Table6[[#This Row],[Toimenpiteen luokka ]]," ","_"),"_",V20)) | V20: =IF(ISBLANK(Table6[[#This Row],[Toimenpiteen luokka ]]),"",VLOOKUP(Table6[[#This Row],[Toimenpiteen luokka ]],'Toimenpiteiden luokittelu'!$C$8:$E$21,3,FALSE)) | W20: =IF(ISBLANK(Table6[[#This Row],[Tarkempi luokitus]]),"",VLOOKUP(Table6[[#This Row],[Tarkempi luokitus]],'Toimenpiteiden luokittelu'!$C$24:$D$67,2,FALSE))
M21: =IF(Table6[[#This Row],[KTEK/TEK]]="KTEK",5,IF(Table6[[#This Row],[KTEK/TEK]]="TEK",15,"")) | T21: =IF(F21="",IF(M21="","",M21),IF(F21="KTEK",5,IF(F21="TEK",IF(M21="",15,M21),""))) | U21: =IF(ISBLANK(Table6[[#This Row],[Toimenpiteen luokka ]]),"",_xlfn.CONCAT(SUBSTITUTE(Table6[[#This Row],[Toimenpiteen luokka ]]," ","_"),"_",V21)) | V21: =IF(ISBLANK(Table6[[#This Row],[Toimenpiteen luokka ]]),"",VLOOKUP(Table6[[#This Row],[Toimenpiteen luokka ]],'Toimenpiteiden luokittelu'!$C$8:$E$21,3,FALSE)) | W21: =IF(ISBLANK(Table6[[#This Row],[Tarkempi luokitus]]),"",VLOOKUP(Table6[[#This Row],[Tarkempi luokitus]],'Toimenpiteiden luokittelu'!$C$24:$D$67,2,FALSE))
... M109: =IF(Table6[[#This Row],[KTEK/TEK]]="KTEK",5,IF(Table6[[#This Row],[KTEK/TEK]]="TEK",15,"")) | T109: =IF(F109="",IF(M109="","",M109),IF(F109="KTEK",5,IF(F109="TEK",IF(M109="",15,M109),""))) | U109: =IF(ISBLANK(Table6[[#This Row],[Toimenpiteen luokka ]]),"",_xlfn.CONCAT(SUBSTITUTE(Table6[[#This Row],[Toimenpiteen luokka ]]," ","_"),"_",V109)) | V109: =IF(ISBLANK(Table6[[#This Row],[Toimenpiteen luokka ]]),"",VLOOKUP(Table6[[#This Row],[Toimenpiteen luokka ]],'Toimenpiteiden luokittelu'!$C$8:$E$21,3,FALSE)) | W109: =IF(ISBLANK(Table6[[#This Row],[Tarkempi luokitus]]),"",VLOOKUP(Table6[[#This Row],[Tarkempi luokitus]],'Toimenpiteiden luokittelu'!$C$24:$D$67,2,FALSE))
U110: =IF(F110="","",IF(F110="KTEK",5,IF(F110="TEK",IF(M110="",15,M110),"")))

Sheet Toimenpiteiden luokittelu
A1: =Toimenpiteet!A1 -> Toimenpiteiden siirtotiedosto, Energiatehokkuussopimukset 2026-2035
A2: =#REF! -> #REF!
A3: Toimenpiteiden luokittelu
C4: Toimenpiteille on lisätty karkea luokittelu, jonka avulla voidaan helpommin tuottaa yhteenvetoja toteutetuista toimenpiteistä.
C6: Energia-ala | G6: KTEK_TEK | I6: Toteutusvaihe | K6: Toteutusvuosi | M6: Kylla_Ei | O6: Toimiala | Q6: Toimiala | R6: Toimenpideohjelmat | S6: Koodi
G7: KTEK | I7: T | K7: 2026 | M7: Kyllä | O7: Energia-ala | Q7: Energia-ala | R7: Energia-ala | S7: Energiantuotanto
B8: linkitys tieto | C8: Energiantuotanto | D8: Koodi | E8: Siirto Koodi | G8: TEK | I8: P | K8: 2027 | M8: Ei | Q8: Energia-ala | R8: Energia-ala | S8: Energia-ala muu
B9: =CONCATENATE(C$6,"_",EnergiaAlaET[[#This Row],[Energiantuotanto]]) -> Energia-ala_ | I9: H | K9: 2028
B10: =CONCATENATE(C$6,"_",EnergiaAlaET[[#This Row],[Energiantuotanto]]) -> Energia-ala_Järjestelmätason tehokkuus | C10: Järjestelmätason tehokkuus | D10: JÄRJESTELMÄ | E10: 1 | I10: E | K10: 2029
B11: =CONCATENATE(C$6,"_",EnergiaAlaET[[#This Row],[Energiantuotanto]]) -> Energia-ala_Kulutuspään ratkaisu | C11: Kulutuspään ratkaisu | D11: KULUTUSPÄÄ | E11: 2 | K11: 2030
B12: =CONCATENATE(C$6,"_",EnergiaAlaET[[#This Row],[Energiantuotanto]]) -> Energia-ala_Uusi energialähde | C12: Uusi energialähde | D12: UUSI_ENERGIA | E12: 3 | K12: 2031
B13: =CONCATENATE(C$6,"_",EnergiaAlaET[[#This Row],[Energiantuotanto]]) -> Energia-ala_Tuotantolaitoksen tehokkuus | C13: Tuotantolaitoksen tehokkuus | D13: TUOTANTO | E13: 4 | K13: 2032
B14: =CONCATENATE(C$6,"_",EnergiaAlaET[[#This Row],[Energiantuotanto]]) -> Energia-ala_Muu | C14: Muu | D14: MUU | E14: 5 | K14: 2033
B15: linkitys tieto | C15: Energia-ala muu | D15: Koodi | E15: Siirto Koodi | K15: 2034
B16: =CONCATENATE(C$6,"_",EnergiaAlaEP[[#This Row],[Energia-ala muu]]) -> Energia-ala_ | K16: 2035
B17: =CONCATENATE(C$6,"_",EnergiaAlaEP[[#This Row],[Energia-ala muu]]) -> Energia-ala_Asiakastoiminnot | C17: Asiakastoiminnot | D17: ASIAKKAAT | E17: 6
B18: =CONCATENATE(C$6,"_",EnergiaAlaEP[[#This Row],[Energia-ala muu]]) -> Energia-ala_Verkon käyttö | C18: Verkon käyttö | D18: KÄYTTÖ | E18: 7
B19: =CONCATENATE(C$6,"_",EnergiaAlaEP[[#This Row],[Energia-ala muu]]) -> Energia-ala_Verkon rakentaminen ja kunnossapito | C19: Verkon rakentaminen ja kunnossapito | D19: KUNNOSSAPITO | E19: 8
B20: =CONCATENATE(C$6,"_",EnergiaAlaEP[[#This Row],[Energia-ala muu]]) -> Energia-ala_Verkon suunnittelu | C20: Verkon suunnittelu | D20: SUUNNITTELU | E20: 9
B21: =CONCATENATE(C$6,"_",EnergiaAlaEP[[#This Row],[Energia-ala muu]]) -> Energia-ala_Muu oma toiminta | C21: Muu oma toiminta | D21: MUU | E21: 10
B23: TARKEMPI LUOKITTELU
B24: linkitys tieto | C24: Järjestelmätason tehokkuus | D24: Koodi
B25: =CONCATENATE($C$24,"_",C25) -> Järjestelmätason tehokkuus_Järjestelmätason optimointi | C25: Järjestelmätason optimointi | D25: 1.1
B26: =CONCATENATE($C$24,"_",C26) -> Järjestelmätason tehokkuus_Lämpö ja jäähdytysvarastot | C26: Lämpö ja jäähdytysvarastot | D26: 1.2
B27: =CONCATENATE($C$24,"_",C27) -> Järjestelmätason tehokkuus_Sähköakku | C27: Sähköakku | D27: 1.3
B28: =CONCATENATE($C$24,"_",C28) -> Järjestelmätason tehokkuus_Muu | C28: Muu | D28: 1.4
C29: Kulutuspään ratkaisu | D29: Koodi
B30: =CONCATENATE($C$29,"_",C30) -> Kulutuspään ratkaisu_Kulutusjousto | C30: Kulutusjousto | D30: 2.1
B31: =CONCATENATE($C$29,"_",C31) -> Kulutuspään ratkaisu_Muu | C31: Muu | D31: 2.2
C32: Uusi energialähde | D32: Koodi
B33: =CONCATENATE($C$32,"_",C33) -> Uusi energialähde_Uusiutuva energialähde | C33: Uusiutuva energialähde | D33: 3.1
B34: =CONCATENATE($C$32,"_",C34) -> Uusi energialähde_Vastaanotetun hukkalämmön hyödyntäminen | C34: Vastaanotetun hukkalämmön hyödyntäminen | D34: 3.2
B35: =CONCATENATE($C$32,"_",C35) -> Uusi energialähde_Muu | C35: Muu | D35: 3.3
C36: Tuotantolaitoksen tehokkuus | D36: Koodi
B37: =CONCATENATE($C$36,"_",C37) -> Tuotantolaitoksen tehokkuus_Tuotannon uudistaminen | C37: Tuotannon uudistaminen | D37: 4.1
B38: =CONCATENATE($C$36,"_",C38) -> Tuotantolaitoksen tehokkuus_Tuotannon tehostaminen | C38: Tuotannon tehostaminen | D38: 4.2
B39: =CONCATENATE($C$36,"_",C39) -> Tuotantolaitoksen tehokkuus_Muu | C39: Muu | D39: 4.3
C40: Muu | D40: Koodi
B41: =CONCATENATE($C$40,"_",C41) -> Muu_Ajoneuvot | C41: Ajoneuvot | D41: 5.1
B42: =CONCATENATE($C$40,"_",C42) -> Muu_Muu | C42: Muu | D42: 5.2
...
