Workbook
Name Energiapalvelu: Table113[Energiapalvelut]
Name Julkinenala: Table111[Julkinen ala]
Name Julkinenala_1: '3 Toimenpiteiden luokittelu'!$C$276:$C$284
Name Julkinenala_10: '3 Toimenpiteiden luokittelu'!$C$328:$C$329
Name Julkinenala_11: '3 Toimenpiteiden luokittelu'!$C$324:$C$326
Name Julkinenala_12: '3 Toimenpiteiden luokittelu'!$C$315:$C$322
Name Julkinenala_2: '3 Toimenpiteiden luokittelu'!$C$286:$C$291
Name Julkinenala_3: '3 Toimenpiteiden luokittelu'!$C$293:$C$296
Name Julkinenala_4: '3 Toimenpiteiden luokittelu'!$C$302:$C$307
Name Julkinenala_5: '3 Toimenpiteiden luokittelu'!$C$309:$C$313
Name Julkinenala_6: '3 Toimenpiteiden luokittelu'!$C$298:$C$300
Name Julkinenala_7: '3 Toimenpiteiden luokittelu'!$C$337:$C$339
Name Julkinenala_8: '3 Toimenpiteiden luokittelu'!$C$331:$C$332
Name Julkinenala_9: '3 Toimenpiteiden luokittelu'!$C$334:$C$335
Name Kiinteistöala: Table110[Toimenpide]
Name Kiinteistöala_1: '3 Toimenpiteiden luokittelu'!$C$221:$C$229
Name Kiinteistöala_2: '3 Toimenpiteiden luokittelu'!$C$231:$C$236
Name Kiinteistöala_3: '3 Toimenpiteiden luokittelu'!$C$243:$C$245
Name Kiinteistöala_4: '3 Toimenpiteiden luokittelu'!$C$238:$C$241
Name Kiinteistöala_5: '3 Toimenpiteiden luokittelu'!$C$247:$C$252
Name Kiinteistöala_6: '3 Toimenpiteiden luokittelu'!$C$254:$C$258
Name Kiinteistöala_7: '3 Toimenpiteiden luokittelu'!$C$268:$C$269
Name Kiinteistöala_8: '3 Toimenpiteiden luokittelu'!$C$271:$C$273
Name Kiinteistöala_9: '3 Toimenpiteiden luokittelu'!$C$260:$C$266
Name KTEK_TEK: Table2[KTEK_TEK]
Name Kylla_ei: Table4[Kylla_Ei]
Name Palvelu: Table19[Toimenpide]
Name Palvelu_1: '3 Toimenpiteiden luokittelu'!$C$160:$C$168
Name Palvelu_10: '3 Toimenpiteiden luokittelu'!$C$199:$C$205
Name Palvelu_2: '3 Toimenpiteiden luokittelu'!$C$170:$C$175
Name Palvelu_3: '3 Toimenpiteiden luokittelu'!$C$182:$C$184
Name Palvelu_4: '3 Toimenpiteiden luokittelu'!$C$177:$C$180
Name Palvelu_5: '3 Toimenpiteiden luokittelu'!$C$186:$C$191
Name Palvelu_6: '3 Toimenpiteiden luokittelu'!$C$193:$C$197
Name Palvelu_7: '3 Toimenpiteiden luokittelu'!$C$210:$C$214
Name Palvelu_8: '3 Toimenpiteiden luokittelu'!$C$207:$C$208
Name Palvelu_9: '3 Toimenpiteiden luokittelu'!$C$216:$C$218
Name Teollisuus: Table1[Toimenpide]
Name Teollisuus_1: '3 Toimenpiteiden luokittelu'!$C$89:$C$97
Name Teollisuus_10: '3 Toimenpiteiden luokittelu'!$C$155:$C$157
Name Teollisuus_11: '3 Toimenpiteiden luokittelu'!$C$128:$C$134
Name Teollisuus_2: '3 Toimenpiteiden luokittelu'!$C$99:$C$104
Name Teollisuus_3: '3 Toimenpiteiden luokittelu'!$C$111:$C$113
Name Teollisuus_4: '3 Toimenpiteiden luokittelu'!$C$106:$C$109
Name Teollisuus_5: '3 Toimenpiteiden luokittelu'!$C$115:$C$120
Name Teollisuus_6: '3 Toimenpiteiden luokittelu'!$C$122:$C$126
Name Teollisuus_7: '3 Toimenpiteiden luokittelu'!$C$141:$C$148
Name Teollisuus_8: '3 Toimenpiteiden luokittelu'!$C$136:$C$139
Name Teollisuus_9: '3 Toimenpiteiden luokittelu'!$C$150:$C$153
Name Toimenpideohjelmat: Table5[#All]
Name Toteutusvaihe: Table3[Toteutusvaihe]

Sheet Ohje
A1: Siirtoteidoston koodi | B1: TOIMENPITEET-V1-2026-09-17/MOTIVA
A3: Toimenpiteiden siirtotiedosto
B5: Toimiala
B6: Julkinen ala
B8: Käyttöohje | I8: Yhteystiedot
B9: Tällä Excel-tiedostolla voi siirtää energiansäästötoimenpiteiden tiedot energiatehokkuussopimusten raportointijärjestelmään. Täytä tiedot Toimenpiteet-välilehdelle tämän ohjeen mukaisesti. Kun kaikki pakolliset tiedot on täytetty, tallenna tiedosto ja siirrä se järjestelmään. | I9: Jos sinulla on kysyttävää siirtotiedostosta tai tietojen siirrossa ilmenee ongelmia, ole yhteydessä energiatehokkuussopimusten raportoinnin ylläpitoon (Seuranta-apu).
I10: seuranta-apu@motiva.fi
B12: 1. Aloita tästä
B13: Ennen tietojen syöttämistä varmista seuraavat asiat:
B14: ☐ Käytössäsi on uusin siirtotiedoston versio.
B15: ☐ Toimialavalinta solussa B6 on oikea.
B16: ☐ Muista, että tiedot syötetään vain toimenpiteet-välilehdelle.
B17: ☐ Toimenpiteiden siirto tapahtuu raportointijärjestelmän "Toimenpiteet ja energiakatselmukset" -osion "Tuo Excel-tiedostosta"-toiminnolla.
B19: 2. Tärkeimmät rajoitukset
B20: ⚠ Katselmuksissa todettuja toimenpiteitä ei voi siirtää tällä siirtotiedostolla. TEM:n tukemien katselmusten tai suurten yritysten pakolliseen katselmukseen liittyvän kohdekatselmuksen toimenpiteitä ei voi siirtää siirtotiedostolla, koska nämä toimenpiteet tulevat energiatehokkuussopimusten raportointijärjestelmään automaattisesti ylläpidon toimesta. Mikäli katselmustoimenpiteitä puuttuu vuosiraportilta, ole yhteydessä seuranta-apu@motiva.fi -osoitteeseen.
B21: ⚠ Toimenpiteen voi siirtää vain yhden kerran siirtotiedostolla. Siirretyn toimenpiteen päivitys tapahtuu aina raportointijärjestelmässä viimeisimmällä avoinna olevalla vuosiraportilla.
B22: ⚠ Et voi muuttaa taulukon rakennetta, lisätä tai poistaa sarakkeita tai muuttaa otsikkorivejä.
B23: ⚠ Siirtotiedostolla voi siirtää samalla kertaa toimenpiteitä useammalle eri toimipaikalle, joihin siirron tekijällä on käyttöoikeudet. Huom. Toimenpiteitä voi siirtää kerralla vain samaan toimialaan (valinta solussa B6) ja samaan sopimukseen kuuluville toimipaikoille.
B24: ⚠ Toimenpiteiden siirtotiedostolla voi siirtää 100 toimenpiteen tiedot (rivit 10-109). Jos siirrettäviä toimenpiteitä on tätä enemmän, jaa ne useammalle siirtotiedostolle.
B26: 3. Sarakekohtaiset ohjeet
B27: Sarake nro. | C27: Sarake | E27: Ohje | N27: Tiedon tyyppi
B28: 1 | C28: Toimipaikan nimi | E28: Toimipaikan nimi on vain tiedoston täyttäjän avuksi eikä siirry järjestelmään. Siirto tapahtuu teknisen tunnisteen perusteella. | N28: Tekstikenttä
B29: 2 | C29: Toimipaikan tekninen tunniste * | E29: Toimenpiteet siirretään oikeille toimipaikoille teknisen tunnisteen perusteella. Toimipaikan tekninen tunniste löytyy raportointijärjestelmästä vuosiraportin ensimmäiseltä sivulta kohdasta "Toimipaikan tiedot". Pakollinen tieto, jota ilman siirto ei onnistu. | N29: Numerosarja
B30: 3 | C30: Kohde | E30: Täytä vain, jos raportoit Toimipaikkaryhmä- tai Ketju-tyyppiselle toimipaikalle ja toimenpide kohdistuu yhteen tiettyyn ryhmän tai ketjun kohteeseen. Lisää kohde raportointijärjestelmään ennen toimenpiteiden siirtoa. Jos kohdetta ei ole lisätty tai sitä ei löydy raportointijärjestelmästä ennen siirtoa, toimenpide siirtyy vuosiraportille, mutta Kohde-tieto jää tyhjäksi. Jätä kenttä tyhjäksi, jos toimenpide koskee useampaa tai kaikkia kohteita. Muilla toimipaikoilla kenttää ei tarvitse täyttää. | N30: Tekstikenttä
B31: 4 | C31: Raportointivuosi * | E31: Lisää viimeisimmän avoinna olevan vuosiraportin vuosi. Toimenpiteet viedään aina viimeisimmälle avoinna olevalle vuodelle. Pakollinen tieto, jota ilman siirto ei onnistu. | N31: Numero (esim. 2026)
B32: 5 | C32: Toimenpiteen nimi * | E32: Anna toimenpiteelle lyhyt ja kuvaava nimi, josta käy ilmi, mitä on tehty ja missä laajuudessa. Kentän enimmäispituus on 255 merkkiä. Esimerkiksi: ”Ilmanvaihtokoneiden puhaltimien uusiminen kolmessa rakennuksessa” Pakollinen tieto, jota ilman siirto ei onnistu. | N32: Tekstikenttä
B33: 6 | C33: KTEK/TEK | E33: Valitse, onko toimenpide käyttötekninen (KTEK) vai tekninen (TEK) toimenpide. Käyttötekninen toimenpide on esimerkiksi säätötoimi, joka voidaan toteuttaa yleensä ilman investointeja ja teknisiä muutoksia. Tekninen toimenpide vaatii yleensä investoinnin ja teknisen muutoksen tarkasteltavaan prosessiin tai kohteeseen. | N33: Pudotusvalikko (vaihtoehdot KTEK tai TEK)
B34: 7 | C34: Investointi € | E34: Investointi, joka kohdistuu energiansäästön aikaansaamiseen. Mikäli tarkka investointi ei ole tiedossa, syötä arvio. Ilmoita investoinniksi nolla (0) vain silloin, kun toimenpide ei ole vaatinut investointia. | N34: Numero (esim. 10 000)
B35: 8 | C35: TMA | E35: TMA = takaisinmaksuaika. Toimenpiteen edellyttämän energiatehokkuusinvestoinnin suora takaisinmaksuaika vuosina, tarvittaessa yhdellä desimaalilla. | N35: Numero (esim. 1,5)
B36: 9 | C36: Sähkö MWh/a | E36: Ilmoita toimenpiteellä yhtenä vuonna saavutettava energiansäästö (sähkö) yksikössä MWh/a. | N36: Numero (esim. 200)
B37: 10 | C37: Lämpö MWh/a | E37: Ilmoita toimenpiteellä yhtenä vuonna saavutettava energiansäästö (lämpö) yksikössä MWh/a. | N37: Numero (esim. 200)
B38: 11 | C38: PA MWh/a | E38: Ilmoita toimenpiteellä yhtenä vuonna saavutettava polttoaineiden säästö yksikössä MWh/a. | N38: Numero (esim. 200)
B39: 12 | C39: Kaukokylmä MWh/a | E39: Ilmoita toimenpiteellä yhtenä vuonna saavutettava kaukojäähdytyksen säästö yksikössä MWh/a. | N39: Numero (esim. 200)
... B49: 22 | C49: Ilmaisjako | E49: Valitse Kyllä, jos toimenpide on ilmoitettu päästökaupan ilmaisjaossa energiatehokkuustoimenpiteenä, jolla osoitetaan ilmaisjaon ehtojen täyttymistä. | N49: Pudotusvalikko (vaihtoehdot Kyllä tai Ei)

Sheet Toimenpiteet
A1: Toimenpiteiden siirtotiedosto, Energiatehokkuussopimukset 2026-2035
A2: =Ohje!B1 -> TOIMENPITEET-V1-2026-09-17/MOTIVA | F2: KTEK
C3: valittu toimiala: | D3: =Ohje!B6 -> Julkinen ala
D4: KOODI | E4: =VLOOKUP(D3,Table5[],3,FALSE) -> #N/A
A5: ToimipaikanNimi | B5: ToimipaikkaId | C5: KetjunToimipaikka | D5: Raportointivuosi | E5: Nimi | F5: KayttotekninenTekninen | G5: Investointi | H5: Takaisinmaksuaika | I5: Sahko | J5: Lampo | K5: Polttoaine | L5: Kaukokylma | M5: Vesi | N5: Toteutusvaihe | O5: Toteutusvuosi | P5: ei_siirry_1 | Q5: EscoTaiMuuRahoitus | R5: InvestointiTuki | S5: ei_siirry_2 | T5: ei_siirry_3 | U5: Lisatieto | V5: Ilmaisjako | W5: SaastonElinika | X5: Luokitus | Y5: TarkempiLuokitus
A6: Numerot rivillä 7 viittaavat "Ohje"-välilehdellä löytyviin ohjeisiin. | F6: TEK
A7: 1) | B7: 2) * Pakollinen tieto | C7: 3) | D7: 4) * Pakollinen tieto | E7: 5) * Pakollinen tieto | F7: 6) | G7: 7) | H7: 8) | I7: 9) | J7: 10) | K7: 11) | L7: 12) | M7: 13) | N7: 14) | O7: 15) | P7: 16) | Q7: 17) | R7: 18) | S7: 19) | T7: 20) | U7: 21) | V7: 22) | X7: 23) | Y7: 24)
I8: Säästöt (=vuosittainen säästö) | N8: T
A9: Toimipaikan nimi | B9: Toimipaikan tekninen tunniste * | C9: Kohde | D9: Raportointivuosi * | E9: Toimenpiteen nimi * | F9: KTEK/TEK | G9: Investointi € | H9: TMA | I9: Sähkö MWh/a | J9: Lämpö MWh/a | K9: PA MWh/a | L9: Kaukokylmä MWh/a | M9: Vesi m3/a | N9: Toteutusvaihe | O9: Toteutusvuosi | P9: Säästön elinikä | Q9: ESCO tai muu rahoitus | R9: Investointi-tuki | S9: Toimenpideluokka | T9: Tarkempi luokitus | U9: Lisätieto | V9: Ilmais-jako | W9: Elinikä siirtoon | X9: Toimenpidekoodi | Y9: Piilotettu_tarkempiluokka_koodi | Z9: Apusarake 1 | AA9: Apusarake 2
P10: =IF(Table6[[#This Row],[KTEK/TEK]]="KTEK",5,IF(Table6[[#This Row],[KTEK/TEK]]="TEK",15,"")) | W10: =IF(F10="",IF(P10="","",P10),IF(F10="KTEK",5,IF(F10="TEK",IF(P10="",15,P10),""))) | X10: =IF(ISBLANK(Table6[[#This Row],[Toimenpideluokka]]),"",VLOOKUP(CONCATENATE($D$3,"_",Table6[[#This Row],[Toimenpideluokka]]),'3 Toimenpiteiden luokittelu'!$B$9:$E$85,4,FALSE)) | Y10: =IF(ISBLANK(Table6[[#This Row],[Tarkempi luokitus]]),"",VLOOKUP(AA10,'3 Toimenpiteiden luokittelu'!$B$89:$D$339,3,FALSE)) | Z10: =IF(ISBLANK(Table6[[#This Row],[Toimenpideluokka]]),"",_xlfn.CONCAT(IF($D$3="Julkinen ala","Julkinenala",$D$3),"_",Table6[[#This Row],[Toimenpidekoodi]])) | AA10: =IF(ISBLANK(Table6[[#This Row],[Tarkempi luokitus]]),"",_xlfn.CONCAT($D$3,"_",Table6[[#This Row],[Toimenpideluokka]],"_",Table6[[#This Row],[Tarkempi luokitus]]))
P11: =IF(Table6[[#This Row],[KTEK/TEK]]="KTEK",5,IF(Table6[[#This Row],[KTEK/TEK]]="TEK",15,"")) | W11: =IF(F11="",IF(P11="","",P11),IF(F11="KTEK",5,IF(F11="TEK",IF(P11="",15,P11),""))) | X11: =IF(ISBLANK(Table6[[#This Row],[Toimenpideluokka]]),"",VLOOKUP(CONCATENATE($D$3,"_",Table6[[#This Row],[Toimenpideluokka]]),'3 Toimenpiteiden luokittelu'!$B$9:$E$85,4,FALSE)) | Y11: =IF(ISBLANK(Table6[[#This Row],[Tarkempi luokitus]]),"",VLOOKUP(AA11,'3 Toimenpiteiden luokittelu'!$B$89:$D$339,3,FALSE)) | Z11: =IF(ISBLANK(Table6[[#This Row],[Toimenpideluokka]]),"",_xlfn.CONCAT(IF($D$3="Julkinen ala","Julkinenala",$D$3),"_",Table6[[#This Row],[Toimenpidekoodi]])) | AA11: =IF(ISBLANK(Table6[[#This Row],[Tarkempi luokitus]]),"",_xlfn.CONCAT($D$3,"_",Table6[[#This Row],[Toimenpideluokka]],"_",Table6[[#This Row],[Tarkempi luokitus]]))
P12: =IF(Table6[[#This Row],[KTEK/TEK]]="KTEK",5,IF(Table6[[#This Row],[KTEK/TEK]]="TEK",15,"")) | W12: =IF(F12="",IF(P12="","",P12),IF(F12="KTEK",5,IF(F12="TEK",IF(P12="",15,P12),""))) | X12: =IF(ISBLANK(Table6[[#This Row],[Toimenpideluokka]]),"",VLOOKUP(CONCATENATE($D$3,"_",Table6[[#This Row],[Toimenpideluokka]]),'3 Toimenpiteiden luokittelu'!$B$9:$E$85,4,FALSE)) | Y12: =IF(ISBLANK(Table6[[#This Row],[Tarkempi luokitus]]),"",VLOOKUP(AA12,'3 Toimenpiteiden luokittelu'!$B$89:$D$339,3,FALSE)) | Z12: =IF(ISBLANK(Table6[[#This Row],[Toimenpideluokka]]),"",_xlfn.CONCAT(IF($D$3="Julkinen ala","Julkinenala",$D$3),"_",Table6[[#This Row],[Toimenpidekoodi]])) | AA12: =IF(ISBLANK(Table6[[#This Row],[Tarkempi luokitus]]),"",_xlfn.CONCAT($D$3,"_",Table6[[#This Row],[Toimenpideluokka]],"_",Table6[[#This Row],[Tarkempi luokitus]]))
P13: =IF(Table6[[#This Row],[KTEK/TEK]]="KTEK",5,IF(Table6[[#This Row],[KTEK/TEK]]="TEK",15,"")) | W13: =IF(F13="",IF(P13="","",P13),IF(F13="KTEK",5,IF(F13="TEK",IF(P13="",15,P13),""))) | X13: =IF(ISBLANK(Table6[[#This Row],[Toimenpideluokka]]),"",VLOOKUP(CONCATENATE($D$3,"_",Table6[[#This Row],[Toimenpideluokka]]),'3 Toimenpiteiden luokittelu'!$B$9:$E$85,4,FALSE)) | Y13: =IF(ISBLANK(Table6[[#This Row],[Tarkempi luokitus]]),"",VLOOKUP(AA13,'3 Toimenpiteiden luokittelu'!$B$89:$D$339,3,FALSE)) | Z13: =IF(ISBLANK(Table6[[#This Row],[Toimenpideluokka]]),"",_xlfn.CONCAT(IF($D$3="Julkinen ala","Julkinenala",$D$3),"_",Table6[[#This Row],[Toimenpidekoodi]])) | AA13: =IF(ISBLANK(Table6[[#This Row],[Tarkempi luokitus]]),"",_xlfn.CONCAT($D$3,"_",Table6[[#This Row],[Toimenpideluokka]],"_",Table6[[#This Row],[Tarkempi luokitus]]))
P14: =IF(Table6[[#This Row],[KTEK/TEK]]="KTEK",5,IF(Table6[[#This Row],[KTEK/TEK]]="TEK",15,"")) | W14: =IF(F14="",IF(P14="","",P14),IF(F14="KTEK",5,IF(F14="TEK",IF(P14="",15,P14),""))) | X14: =IF(ISBLANK(Table6[[#This Row],[Toimenpideluokka]]),"",VLOOKUP(CONCATENATE($D$3,"_",Table6[[#This Row],[Toimenpideluokka]]),'3 Toimenpiteiden luokittelu'!$B$9:$E$85,4,FALSE)) | Y14: =IF(ISBLANK(Table6[[#This Row],[Tarkempi luokitus]]),"",VLOOKUP(AA14,'3 Toimenpiteiden luokittelu'!$B$89:$D$339,3,FALSE)) | Z14: =IF(ISBLANK(Table6[[#This Row],[Toimenpideluokka]]),"",_xlfn.CONCAT(IF($D$3="Julkinen ala","Julkinenala",$D$3),"_",Table6[[#This Row],[Toimenpidekoodi]])) | AA14: =IF(ISBLANK(Table6[[#This Row],[Tarkempi luokitus]]),"",_xlfn.CONCAT($D$3,"_",Table6[[#This Row],[Toimenpideluokka]],"_",Table6[[#This Row],[Tarkempi luokitus]]))
P15: =IF(Table6[[#This Row],[KTEK/TEK]]="KTEK",5,IF(Table6[[#This Row],[KTEK/TEK]]="TEK",15,"")) | W15: =IF(F15="",IF(P15="","",P15),IF(F15="KTEK",5,IF(F15="TEK",IF(P15="",15,P15),""))) | X15: =IF(ISBLANK(Table6[[#This Row],[Toimenpideluokka]]),"",VLOOKUP(CONCATENATE($D$3,"_",Table6[[#This Row],[Toimenpideluokka]]),'3 Toimenpiteiden luokittelu'!$B$9:$E$85,4,FALSE)) | Y15: =IF(ISBLANK(Table6[[#This Row],[Tarkempi luokitus]]),"",VLOOKUP(AA15,'3 Toimenpiteiden luokittelu'!$B$89:$D$339,3,FALSE)) | Z15: =IF(ISBLANK(Table6[[#This Row],[Toimenpideluokka]]),"",_xlfn.CONCAT(IF($D$3="Julkinen ala","Julkinenala",$D$3),"_",Table6[[#This Row],[Toimenpidekoodi]])) | AA15: =IF(ISBLANK(Table6[[#This Row],[Tarkempi luokitus]]),"",_xlfn.CONCAT($D$3,"_",Table6[[#This Row],[Toimenpideluokka]],"_",Table6[[#This Row],[Tarkempi luokitus]]))
P16: =IF(Table6[[#This Row],[KTEK/TEK]]="KTEK",5,IF(Table6[[#This Row],[KTEK/TEK]]="TEK",15,"")) | W16: =IF(F16="",IF(P16="","",P16),IF(F16="KTEK",5,IF(F16="TEK",IF(P16="",15,P16),""))) | X16: =IF(ISBLANK(Table6[[#This Row],[Toimenpideluokka]]),"",VLOOKUP(CONCATENATE($D$3,"_",Table6[[#This Row],[Toimenpideluokka]]),'3 Toimenpiteiden luokittelu'!$B$9:$E$85,4,FALSE)) | Y16: =IF(ISBLANK(Table6[[#This Row],[Tarkempi luokitus]]),"",VLOOKUP(AA16,'3 Toimenpiteiden luokittelu'!$B$89:$D$339,3,FALSE)) | Z16: =IF(ISBLANK(Table6[[#This Row],[Toimenpideluokka]]),"",_xlfn.CONCAT(IF($D$3="Julkinen ala","Julkinenala",$D$3),"_",Table6[[#This Row],[Toimenpidekoodi]])) | AA16: =IF(ISBLANK(Table6[[#This Row],[Tarkempi luokitus]]),"",_xlfn.CONCAT($D$3,"_",Table6[[#This Row],[Toimenpideluokka]],"_",Table6[[#This Row],[Tarkempi luokitus]]))
P17: =IF(Table6[[#This Row],[KTEK/TEK]]="KTEK",5,IF(Table6[[#This Row],[KTEK/TEK]]="TEK",15,"")) | W17: =IF(F17="",IF(P17="","",P17),IF(F17="KTEK",5,IF(F17="TEK",IF(P17="",15,P17),""))) | X17: =IF(ISBLANK(Table6[[#This Row],[Toimenpideluokka]]),"",VLOOKUP(CONCATENATE($D$3,"_",Table6[[#This Row],[Toimenpideluokka]]),'3 Toimenpiteiden luokittelu'!$B$9:$E$85,4,FALSE)) | Y17: =IF(ISBLANK(Table6[[#This Row],[Tarkempi luokitus]]),"",VLOOKUP(AA17,'3 Toimenpiteiden luokittelu'!$B$89:$D$339,3,FALSE)) | Z17: =IF(ISBLANK(Table6[[#This Row],[Toimenpideluokka]]),"",_xlfn.CONCAT(IF($D$3="Julkinen ala","Julkinenala",$D$3),"_",Table6[[#This Row],[Toimenpidekoodi]])) | AA17: =IF(ISBLANK(Table6[[#This Row],[Tarkempi luokitus]]),"",_xlfn.CONCAT($D$3,"_",Table6[[#This Row],[Toimenpideluokka]],"_",Table6[[#This Row],[Tarkempi luokitus]]))
P18: =IF(Table6[[#This Row],[KTEK/TEK]]="KTEK",5,IF(Table6[[#This Row],[KTEK/TEK]]="TEK",15,"")) | W18: =IF(F18="",IF(P18="","",P18),IF(F18="KTEK",5,IF(F18="TEK",IF(P18="",15,P18),""))) | X18: =IF(ISBLANK(Table6[[#This Row],[Toimenpideluokka]]),"",VLOOKUP(CONCATENATE($D$3,"_",Table6[[#This Row],[Toimenpideluokka]]),'3 Toimenpiteiden luokittelu'!$B$9:$E$85,4,FALSE)) | Y18: =IF(ISBLANK(Table6[[#This Row],[Tarkempi luokitus]]),"",VLOOKUP(AA18,'3 Toimenpiteiden luokittelu'!$B$89:$D$339,3,FALSE)) | Z18: =IF(ISBLANK(Table6[[#This Row],[Toimenpideluokka]]),"",_xlfn.CONCAT(IF($D$3="Julkinen ala","Julkinenala",$D$3),"_",Table6[[#This Row],[Toimenpidekoodi]])) | AA18: =IF(ISBLANK(Table6[[#This Row],[Tarkempi luokitus]]),"",_xlfn.CONCAT($D$3,"_",Table6[[#This Row],[Toimenpideluokka]],"_",Table6[[#This Row],[Tarkempi luokitus]]))
P19: =IF(Table6[[#This Row],[KTEK/TEK]]="KTEK",5,IF(Table6[[#This Row],[KTEK/TEK]]="TEK",15,"")) | W19: =IF(F19="",IF(P19="","",P19),IF(F19="KTEK",5,IF(F19="TEK",IF(P19="",15,P19),""))) | X19: =IF(ISBLANK(Table6[[#This Row],[Toimenpideluokka]]),"",VLOOKUP(CONCATENATE($D$3,"_",Table6[[#This Row],[Toimenpideluokka]]),'3 Toimenpiteiden luokittelu'!$B$9:$E$85,4,FALSE)) | Y19: =IF(ISBLANK(Table6[[#This Row],[Tarkempi luokitus]]),"",VLOOKUP(AA19,'3 Toimenpiteiden luokittelu'!$B$89:$D$339,3,FALSE)) | Z19: =IF(ISBLANK(Table6[[#This Row],[Toimenpideluokka]]),"",_xlfn.CONCAT(IF($D$3="Julkinen ala","Julkinenala",$D$3),"_",Table6[[#This Row],[Toimenpidekoodi]])) | AA19: =IF(ISBLANK(Table6[[#This Row],[Tarkempi luokitus]]),"",_xlfn.CONCAT($D$3,"_",Table6[[#This Row],[Toimenpideluokka]],"_",Table6[[#This Row],[Tarkempi luokitus]]))
P20: =IF(Table6[[#This Row],[KTEK/TEK]]="KTEK",5,IF(Table6[[#This Row],[KTEK/TEK]]="TEK",15,"")) | W20: =IF(F20="",IF(P20="","",P20),IF(F20="KTEK",5,IF(F20="TEK",IF(P20="",15,P20),""))) | X20: =IF(ISBLANK(Table6[[#This Row],[Toimenpideluokka]]),"",VLOOKUP(CONCATENATE($D$3,"_",Table6[[#This Row],[Toimenpideluokka]]),'3 Toimenpiteiden luokittelu'!$B$9:$E$85,4,FALSE)) | Y20: =IF(ISBLANK(Table6[[#This Row],[Tarkempi luokitus]]),"",VLOOKUP(AA20,'3 Toimenpiteiden luokittelu'!$B$89:$D$339,3,FALSE)) | Z20: =IF(ISBLANK(Table6[[#This Row],[Toimenpideluokka]]),"",_xlfn.CONCAT(IF($D$3="Julkinen ala","Julkinenala",$D$3),"_",Table6[[#This Row],[Toimenpidekoodi]])) | AA20: =IF(ISBLANK(Table6[[#This Row],[Tarkempi luokitus]]),"",_xlfn.CONCAT($D$3,"_",Table6[[#This Row],[Toimenpideluokka]],"_",Table6[[#This Row],[Tarkempi luokitus]]))
P21: =IF(Table6[[#This Row],[KTEK/TEK]]="KTEK",5,IF(Table6[[#This Row],[KTEK/TEK]]="TEK",15,"")) | W21: =IF(F21="",IF(P21="","",P21),IF(F21="KTEK",5,IF(F21="TEK",IF(P21="",15,P21),""))) | X21: =IF(ISBLANK(Table6[[#This Row],[Toimenpideluokka]]),"",VLOOKUP(CONCATENATE($D$3,"_",Table6[[#This Row],[Toimenpideluokka]]),'3 Toimenpiteiden luokittelu'!$B$9:$E$85,4,FALSE)) | Y21: =IF(ISBLANK(Table6[[#This Row],[Tarkempi luokitus]]),"",VLOOKUP(AA21,'3 Toimenpiteiden luokittelu'!$B$89:$D$339,3,FALSE)) | Z21: =IF(ISBLANK(Table6[[#This Row],[Toimenpideluokka]]),"",_xlfn.CONCAT(IF($D$3="Julkinen ala","Julkinenala",$D$3),"_",Table6[[#This Row],[Toimenpidekoodi]])) | AA21: =IF(ISBLANK(Table6[[#This Row],[Tarkempi luokitus]]),"",_xlfn.CONCAT($D$3,"_",Table6[[#This Row],[Toimenpideluokka]],"_",Table6[[#This Row],[Tarkempi luokitus]]))
... P109: =IF(Table6[[#This Row],[KTEK/TEK]]="KTEK",5,IF(Table6[[#This Row],[KTEK/TEK]]="TEK",15,"")) | W109: =IF(F109="",IF(P109="","",P109),IF(F109="KTEK",5,IF(F109="TEK",IF(P109="",15,P109),""))) | X109: =IF(ISBLANK(Table6[[#This Row],[Toimenpideluokka]]),"",VLOOKUP(CONCATENATE($D$3,"_",Table6[[#This Row],[Toimenpideluokka]]),'3 Toimenpiteiden luokittelu'!$B$9:$E$85,4,FALSE)) | Y109: =IF(ISBLANK(Table6[[#This Row],[Tarkempi luokitus]]),"",VLOOKUP(AA109,'3 Toimenpiteiden luokittelu'!$B$89:$D$339,3,FALSE)) | Z109: =IF(ISBLANK(Table6[[#This Row],[Toimenpideluokka]]),"",_xlfn.CONCAT(IF($D$3="Julkinen ala","Julkinenala",$D$3),"_",Table6[[#This Row],[Toimenpidekoodi]])) | AA109: =IF(ISBLANK(Table6[[#This Row],[Tarkempi luokitus]]),"",_xlfn.CONCAT($D$3,"_",Table6[[#This Row],[Toimenpideluokka]],"_",Table6[[#This Row],[Tarkempi luokitus]]))

Sheet 3 Toimenpiteiden luokittelu
A1: =Toimenpiteet!A1 -> Toimenpiteiden siirtotiedosto, Energiatehokkuussopimukset 2026-2035
C4: Toimenpiteille on lisätty karkea luokittelu, jonka avulla voidaan helpommin tuottaa yhteenvetoja toteutetuista toimenpiteistä.
C6: Teollisuus | G6: KTEK_TEK | I6: Toteutusvaihe | K6: Toteutusvuosi | M6: Kylla_Ei | O6: Toimiala | Q6: Toimiala | R6: Toimenpideohjelmat | S6: Koodi
G7: KTEK | I7: T | K7: 2026 | M7: Kyllä | O7: Teollisuus | Q7: Palvelu | R7: Auto | S7: Auto
B8: linkitys tieto | C8: Toimenpide | D8: Koodi | E8: Siirto Koodi | G8: TEK | I8: P | K8: 2027 | M8: Ei | O8: Palvelu | Q8: Palvelu | R8: Kauppa | S8: Kauppa
B9: =CONCATENATE(C$6,"_",Table1[[#This Row],[Toimenpide]]) -> Teollisuus_Energiantuotanto | C9: Energiantuotanto | D9: ENERGIANTUOTANTO | E9: 10 | I9: H | K9: 2028 | O9: Kiinteistöala | Q9: Palvelu | R9: MaRa | S9: MaRa
B10: =CONCATENATE(C$6,"_",Table1[[#This Row],[Toimenpide]]) -> Teollisuus_Höyry ja lauhde | C10: Höyry ja lauhde | D10: HÖYRY | E10: 8 | I10: E | K10: 2029 | O10: Julkinen ala | Q10: Palvelu | R10: Yleinen palvelu | S10: YlePA
B11: =CONCATENATE(C$6,"_",Table1[[#This Row],[Toimenpide]]) -> Teollisuus_Ilmanvaihtojärjestelmä | C11: Ilmanvaihtojärjestelmä | D11: IV | E11: 2 | K11: 2030 | Q11: Teollisuus | R11: Elintarvike | S11: ETL
B12: =CONCATENATE(C$6,"_",Table1[[#This Row],[Toimenpide]]) -> Teollisuus_Jäähdytys | C12: Jäähdytys | D12: JÄÄHDYTYS | E12: 5 | K12: 2031 | Q12: Teollisuus | R12: Kemia | S12: Kemia
B13: =CONCATENATE(C$6,"_",Table1[[#This Row],[Toimenpide]]) -> Teollisuus_Käyttövesijärjestelmä | C13: Käyttövesijärjestelmä | D13: VESI | E13: 4 | K13: 2032 | Q13: Teollisuus | R13: Puu | S13: Puu
B14: =CONCATENATE(C$6,"_",Table1[[#This Row],[Toimenpide]]) -> Teollisuus_Paineilma | C14: Paineilma | D14: PAINEILMA | E14: 9 | K14: 2033 | Q14: Teollisuus | R14: Tekno | S14: Tekno
B15: =CONCATENATE(C$6,"_",Table1[[#This Row],[Toimenpide]]) -> Teollisuus_Prosessi ja prosessilaitteet | C15: Prosessi ja prosessilaitteet | D15: PROSESSI | E15: 7 | K15: 2034 | Q15: Teollisuus | R15: Yleinen teollisuus | S15: YleTE
B16: =CONCATENATE(C$6,"_",Table1[[#This Row],[Toimenpide]]) -> Teollisuus_Rakenteet | C16: Rakenteet | D16: RAKENTEET | E16: 6 | K16: 2035 | Q16: Teollisuus | R16: Energiavaltainen teollisuus (EVT EK) | S16: EVT
B17: =CONCATENATE(C$6,"_",Table1[[#This Row],[Toimenpide]]) -> Teollisuus_Tilojen lämmitysjärjestelmä | C17: Tilojen lämmitysjärjestelmä | D17: LÄMMITYS | E17: 1 | Q17: Teollisuus | R17: Energiavaltainen teollisuus (EVT METSÄ) | S17: EVTMETSÄ
B18: =CONCATENATE(C$6,"_",Table1[[#This Row],[Toimenpide]]) -> Teollisuus_Valaistus | C18: Valaistus | D18: VALAISTUS | E18: 3 | Q18: Energiantuotanto | R18: Energiantuotanto (ET) | S18: ET
B19: =CONCATENATE(C$6,"_",Table1[[#This Row],[Toimenpide]]) -> Teollisuus_Muu | C19: Muu | D19: MUU | E19: 11 | Q19: Energiapalvelu | R19: Energiapalvelu (EP) | S19: EP
Q20: Kiinteistöala | R20: TETS | S20: TETS
Q21: Kiinteistöala | R21: VAETS | S21: VAETS
C22: Palvelu | Q22: JETS | R22: Julkinen ala | S22: JETS
B24: linkitys tieto | C24: Toimenpide | D24: Koodi | E24: Siirto Koodi
B25: =CONCATENATE(C$22,"_",Table19[[#This Row],[Toimenpide]]) -> Palvelu_Energiantuotanto | C25: Energiantuotanto | D25: ENERGIANTUOTANTO | E25: 9
B26: =CONCATENATE(C$22,"_",Table19[[#This Row],[Toimenpide]]) -> Palvelu_Höyry ja lauhde | C26: Höyry ja lauhde | D26: HÖYRY | E26: 8
B27: =CONCATENATE(C$22,"_",Table19[[#This Row],[Toimenpide]]) -> Palvelu_Ilmanvaihtojärjestelmä | C27: Ilmanvaihtojärjestelmä | D27: IV | E27: 2
B28: =CONCATENATE(C$22,"_",Table19[[#This Row],[Toimenpide]]) -> Palvelu_Jäähdytys | C28: Jäähdytys | D28: JÄÄHDYTYS | E28: 5
B29: =CONCATENATE(C$22,"_",Table19[[#This Row],[Toimenpide]]) -> Palvelu_Kaupan kylmäjärjestelmä | C29: Kaupan kylmäjärjestelmä | D29: KYLMÄKALUSTE | E29: 7
B30: =CONCATENATE(C$22,"_",Table19[[#This Row],[Toimenpide]]) -> Palvelu_Käyttövesijärjestelmä | C30: Käyttövesijärjestelmä | D30: KÄYTTÖVESI | E30: 4
B31: =CONCATENATE(C$22,"_",Table19[[#This Row],[Toimenpide]]) -> Palvelu_Rakenteet | C31: Rakenteet | D31: RAKENTEET | E31: 6
B32: =CONCATENATE(C$22,"_",Table19[[#This Row],[Toimenpide]]) -> Palvelu_Tilojen lämmitysjärjestelmä | C32: Tilojen lämmitysjärjestelmä | D32: LÄMMITYS | E32: 1
B33: =CONCATENATE(C$22,"_",Table19[[#This Row],[Toimenpide]]) -> Palvelu_Valaistus | C33: Valaistus | D33: VALAISTUS | E33: 3
B34: =CONCATENATE(C$22,"_",Table19[[#This Row],[Toimenpide]]) -> Palvelu_Muu | C34: Muu | D34: MUU | E34: 10
C37: Kiinteistöala
B39: linkitys tieto | C39: Toimenpide | D39: Koodi | E39: Siirto Koodi
B40: =CONCATENATE(C$37,"_",Table110[[#This Row],[Toimenpide]]) -> Kiinteistöala_Energiantuotanto | C40: Energiantuotanto | D40: ENERGIANTUOTANTO | E40: 8
B41: =CONCATENATE(C$37,"_",Table110[[#This Row],[Toimenpide]]) -> Kiinteistöala_Höyry ja lauhde | C41: Höyry ja lauhde | D41: HÖYRY | E41: 7
B42: =CONCATENATE(C$37,"_",Table110[[#This Row],[Toimenpide]]) -> Kiinteistöala_Ilmanvaihtojärjestelmä | C42: Ilmanvaihtojärjestelmä | D42: IV | E42: 2
B43: =CONCATENATE(C$37,"_",Table110[[#This Row],[Toimenpide]]) -> Kiinteistöala_Jäähdytys | C43: Jäähdytys | D43: JÄÄHDYTYS | E43: 5
B44: =CONCATENATE(C$37,"_",Table110[[#This Row],[Toimenpide]]) -> Kiinteistöala_Käyttövesijärjestelmä | C44: Käyttövesijärjestelmä | D44: KÄYTTÖVESI | E44: 4
B45: =CONCATENATE(C$37,"_",Table110[[#This Row],[Toimenpide]]) -> Kiinteistöala_Rakenteet | C45: Rakenteet | D45: RAKENTEET | E45: 6
B46: =CONCATENATE(C$37,"_",Table110[[#This Row],[Toimenpide]]) -> Kiinteistöala_Tilojen lämmitysjärjestelmä | C46: Tilojen lämmitysjärjestelmä | D46: LÄMMITYS | E46: 1
B47: =CONCATENATE(C$37,"_",Table110[[#This Row],[Toimenpide]]) -> Kiinteistöala_Valaistus | C47: Valaistus | D47: VALAISTUS | E47: 3
B48: =CONCATENATE(C$37,"_",Table110[[#This Row],[Toimenpide]]) -> Kiinteistöala_Muu | C48: Muu | D48: MUU | E48: 9
C51: Julkinen ala
B53: linkitys tieto | C53: Julkinen ala | D53: Koodi | E53: Siirto Koodi
B54: =CONCATENATE(C$51,"_",Table111[[#This Row],[Julkinen ala]]) -> Julkinen ala_Energiantuotanto | C54: Energiantuotanto | D54: ENERGIANTUOTANTO | E54: 11
B55: =CONCATENATE(C$51,"_",Table111[[#This Row],[Julkinen ala]]) -> Julkinen ala_Ilmanvaihtojärjestelmä | C55: Ilmanvaihtojärjestelmä | D55: IV | E55: 2
B56: =CONCATENATE(C$51,"_",Table111[[#This Row],[Julkinen ala]]) -> Julkinen ala_Jätehuolto | C56: Jätehuolto | D56: JÄTEHUOLTO | E56: 10
B57: =CONCATENATE(C$51,"_",Table111[[#This Row],[Julkinen ala]]) -> Julkinen ala_Jäähdytys | C57: Jäähdytys | D57: JÄÄHDYTYS | E57: 4
B58: =CONCATENATE(C$51,"_",Table111[[#This Row],[Julkinen ala]]) -> Julkinen ala_Katu-/ulkovalaistus | C58: Katu-/ulkovalaistus | D58: ULKOVALAISTUS | E58: 7
B59: =CONCATENATE(C$51,"_",Table111[[#This Row],[Julkinen ala]]) -> Julkinen ala_Käyttövesijärjestelmä | C59: Käyttövesijärjestelmä | D59: KÄYTTÖVESI | E59: 3
B60: =CONCATENATE(C$51,"_",Table111[[#This Row],[Julkinen ala]]) -> Julkinen ala_Liikenne ja liikkuminen | C60: Liikenne ja liikkuminen | D60: LIIKENNE | E60: 8
B61: =CONCATENATE(C$51,"_",Table111[[#This Row],[Julkinen ala]]) -> Julkinen ala_Rakenteet | C61: Rakenteet | D61: RAKENTEET | E61: 5
B62: =CONCATENATE(C$51,"_",Table111[[#This Row],[Julkinen ala]]) -> Julkinen ala_Tilojen lämmitysjärjestelmä | C62: Tilojen lämmitysjärjestelmä | D62: LÄMMITYS | E62: 1
B63: =CONCATENATE(C$51,"_",Table111[[#This Row],[Julkinen ala]]) -> Julkinen ala_Valaistus | C63: Valaistus | D63: VALAISTUS | E63: 6
B64: =CONCATENATE(C$51,"_",Table111[[#This Row],[Julkinen ala]]) -> Julkinen ala_Vesihuolto | C64: Vesihuolto | D64: VESIHUOLTO | E64: 9
B65: =CONCATENATE(C$51,"_",Table111[[#This Row],[Julkinen ala]]) -> Julkinen ala_Muu | C65: Muu | D65: MUU | E65: 12
C67: Energiantuotanto
B69: linkitys tieto | C69: Energiantuotanto | D69: Koodi | E69: Siirto Koodi
B70: =CONCATENATE(C$67,"_",Table112[[#This Row],[Energiantuotanto]]) -> Energiantuotanto_Tuotantolaitoksen tehokkuus | C70: Tuotantolaitoksen tehokkuus | D70: TUOTANTO
B71: =CONCATENATE(C$67,"_",Table112[[#This Row],[Energiantuotanto]]) -> Energiantuotanto_Uusi energialähde | C71: Uusi energialähde | D71: UUSI_ENERGIA
B72: =CONCATENATE(C$67,"_",Table112[[#This Row],[Energiantuotanto]]) -> Energiantuotanto_Järjestelmätason tehokkuus | C72: Järjestelmätason tehokkuus | D72: JÄRJESTELMÄ
B73: =CONCATENATE(C$67,"_",Table112[[#This Row],[Energiantuotanto]]) -> Energiantuotanto_Kulutuspään ratkaisu | C73: Kulutuspään ratkaisu | D73: KULUTUSPÄÄ
B74: =CONCATENATE(C$67,"_",Table112[[#This Row],[Energiantuotanto]]) -> Energiantuotanto_Muu | C74: Muu | D74: Muu
C76: Energiapalvelu
B78: linkitys tieto | C78: Energiapalvelut | D78: Koodi | E78: Siirto Koodi
B79: =CONCATENATE(C$76,"_",Table113[[#This Row],[Energiapalvelut]]) -> Energiapalvelu_Verkon suunnittelu | C79: Verkon suunnittelu | D79: SUUNNITTELU
B80: =CONCATENATE(C$76,"_",Table113[[#This Row],[Energiapalvelut]]) -> Energiapalvelu_Verkon rakentaminen ja kunnossapito | C80: Verkon rakentaminen ja kunnossapito | D80: KUNNOSSAPITO
B81: =CONCATENATE(C$76,"_",Table113[[#This Row],[Energiapalvelut]]) -> Energiapalvelu_Verkon käyttö | C81: Verkon käyttö | D81: KÄYTTÖ
B82: =CONCATENATE(C$76,"_",Table113[[#This Row],[Energiapalvelut]]) -> Energiapalvelu_Asiakastoiminnot | C82: Asiakastoiminnot | D82: ASIAKKAAT
B83: =CONCATENATE(C$76,"_",Table113[[#This Row],[Energiapalvelut]]) -> Energiapalvelu_Lämmön tuotanto | C83: Lämmön tuotanto | D83: TUOTANTO
B84: =CONCATENATE(C$76,"_",Table113[[#This Row],[Energiapalvelut]]) -> Energiapalvelu_Muu oma toiminta | C84: Muu oma toiminta | D84: MUU
B86: TARKEMPI LUOKITTELU
B87: Teollisuus
B88: linkitys tieto | C88: Tilojen lämmitysjärjestelmä | D88: Koodi | E88: Lyhyt nimi
B89: =_xlfn.CONCAT($B$87,"_",$C$88,"_",C89) -> Teollisuus_Tilojen lämmitysjärjestelmä_Lämmöntalteenotto ja kierrätys | C89: Lämmöntalteenotto ja kierrätys | D89: 1.1
B90: =_xlfn.CONCAT($B$87,"_",$C$88,"_",C90) -> Teollisuus_Tilojen lämmitysjärjestelmä_Lämmöntuotannon tehostaminen | C90: Lämmöntuotannon tehostaminen | D90: 1.2
B91: =_xlfn.CONCAT($B$87,"_",$C$88,"_",C91) -> Teollisuus_Tilojen lämmitysjärjestelmä_Lämpöhäviöiden vähentäminen (eristykset) | C91: Lämpöhäviöiden vähentäminen (eristykset) | D91: 1.3
B92: =_xlfn.CONCAT($B$87,"_",$C$88,"_",C92) -> Teollisuus_Tilojen lämmitysjärjestelmä_Lämpöpumppu olemassa olevan lämmitysmuodon rinnalle | C92: Lämpöpumppu olemassa olevan lämmitysmuodon rinnalle | D92: 1.4
B93: =_xlfn.CONCAT($B$87,"_",$C$88,"_",C93) -> Teollisuus_Tilojen lämmitysjärjestelmä_Lämpöpumppuun siirtyminen päälämmitysmuotona | C93: Lämpöpumppuun siirtyminen päälämmitysmuotona | D93: 1.5
B94: =_xlfn.CONCAT($B$87,"_",$C$88,"_",C94) -> Teollisuus_Tilojen lämmitysjärjestelmä_Peruslämmölle siirtäminen | C94: Peruslämmölle siirtäminen | D94: 1.6
B95: =_xlfn.CONCAT($B$87,"_",$C$88,"_",C95) -> Teollisuus_Tilojen lämmitysjärjestelmä_Sisälämpötilan muutokset | C95: Sisälämpötilan muutokset | D95: 1.7
B96: =_xlfn.CONCAT($B$87,"_",$C$88,"_",C96) -> Teollisuus_Tilojen lämmitysjärjestelmä_Säädön ja ohjausten parantaminen | C96: Säädön ja ohjausten parantaminen | D96: 1.8
B97: =_xlfn.CONCAT($B$87,"_",$C$88,"_",C97) -> Teollisuus_Tilojen lämmitysjärjestelmä_Muu | C97: Muu | D97: 1.9
B98: linkitys tieto | C98: Ilmanvaihtojärjestelmä | D98: Koodi
B99: =_xlfn.CONCAT($B$87,"_",$C$98,"_",C99) -> Teollisuus_Ilmanvaihtojärjestelmä_Käyntiajat ja niiden ohjaukset | C99: Käyntiajat ja niiden ohjaukset | D99: 2.1
B100: =_xlfn.CONCAT($B$87,"_",$C$98,"_",C100) -> Teollisuus_Ilmanvaihtojärjestelmä_Lämmöntalteenotto | C100: Lämmöntalteenotto | D100: 2.2
B101: =_xlfn.CONCAT($B$87,"_",$C$98,"_",C101) -> Teollisuus_Ilmanvaihtojärjestelmä_Puhallin- tai järjestelmäuusinta | C101: Puhallin- tai järjestelmäuusinta | D101: 2.3
B102: =_xlfn.CONCAT($B$87,"_",$C$98,"_",C102) -> Teollisuus_Ilmanvaihtojärjestelmä_Säätötoimenpiteet | C102: Säätötoimenpiteet | D102: 2.4
B103: =_xlfn.CONCAT($B$87,"_",$C$98,"_",C103) -> Teollisuus_Ilmanvaihtojärjestelmä_Yötuuletus | C103: Yötuuletus | D103: 2.5
B104: =_xlfn.CONCAT($B$87,"_",$C$98,"_",C104) -> Teollisuus_Ilmanvaihtojärjestelmä_Muu | C104: Muu | D104: 2.6
B105: linkitys tieto | C105: Käyttövesijärjestelmä | D105: Koodi
B106: =_xlfn.CONCAT($B$87,"_",$C$105,"_",C106) -> Teollisuus_Käyttövesijärjestelmä_Käyttöveden lämpötila | C106: Käyttöveden lämpötila | D106: 4.1
B107: =_xlfn.CONCAT($B$87,"_",$C$105,"_",C107) -> Teollisuus_Käyttövesijärjestelmä_Vesikalusteiden uusinnat | C107: Vesikalusteiden uusinnat | D107: 4.2
B108: =_xlfn.CONCAT($B$87,"_",$C$105,"_",C108) -> Teollisuus_Käyttövesijärjestelmä_Vesikalusteiden virtaamat | C108: Vesikalusteiden virtaamat | D108: 4.3
B109: =_xlfn.CONCAT($B$87,"_",$C$105,"_",C109) -> Teollisuus_Käyttövesijärjestelmä_Muu | C109: Muu | D109: 4.4
B110: linkitys tieto | C110: Valaistus | D110: Koodi
B111: =_xlfn.CONCAT($B$87,"_",$C$110,"_",C111) -> Teollisuus_Valaistus_Ohjaus | C111: Ohjaus | D111: 3.1
B112: =_xlfn.CONCAT($B$87,"_",$C$110,"_",C112) -> Teollisuus_Valaistus_Uusinnat | C112: Uusinnat | D112: 3.2
B113: =_xlfn.CONCAT($B$87,"_",$C$110,"_",C113) -> Teollisuus_Valaistus_Muu | C113: Muu | D113: 3.3
B114: linkitys tieto | C114: Jäähdytys | D114: Koodi
B115: =_xlfn.CONCAT($B$87,"_",$C$114,"_",C115) -> Teollisuus_Jäähdytys_Kylmän jakelu ja luovutus | C115: Kylmän jakelu ja luovutus | D115: 5.1
...
